BEGIN:VCALENDAR
VERSION:2.0
PRODID:icalendar-ruby
CALSCALE:GREGORIAN
METHOD:PUBLISH
BEGIN:VEVENT
DTSTAMP:20260424T033936Z
UID:231-429392@hpefc.com
DTSTART:20260426T180000Z
DTEND:20260426T210000Z
CLASS:PUBLIC
CREATED:20260423T172125
DESCRIPTION:
LAST-MODIFIED:20260423T172125
LOCATION:
SUMMARY:Church Potluck
URL;VALUE=URI:https://www.hpefc.com/events/church-potluck--231/2026-04-26
ATTACH;FILENAME=Welcome-to-church---29.jpeg;FMTTYPE=image/jpeg:https://dq5p
 wpg1q8ru0.cloudfront.net/2026/04/23/23/21/25/722d1827-ccdd-4334-9f64-8c1b5
 b543c5b/Welcome-to-church---29.jpeg
END:VEVENT
END:VCALENDAR
