BEGIN:VCALENDAR
VERSION:2.0
PRODID:icalendar-ruby
CALSCALE:GREGORIAN
METHOD:PUBLISH
BEGIN:VEVENT
DTSTAMP:20260425T161511Z
UID:172-432179@hpefc.com
DTSTART:20270222T200000Z
DTEND:20270222T210000Z
CLASS:PUBLIC
CREATED:20260425T074350
DESCRIPTION: \n\nLadies Bible Study\nAll ladies welcome!\nMondays @ 1pm\n@
  Hi-U Community Center (203 Glenmuir Ave.) in Ferintosh\nLed by Jean\n
LAST-MODIFIED:20260425T074350
LOCATION:Hi-U Community Center in Ferintosh
SUMMARY:Ladies Bible Study
URL;VALUE=URI:https://www.hpefc.com/events/ladies-bible-study--172/2027-02-
 22
ATTACH;FILENAME=FKoam.jpg;FMTTYPE=image/jpeg:https://dq5pwpg1q8ru0.cloudfro
 nt.net/2024/01/18/22/05/08/d243178a-7796-4175-8b09-c4d7e96c6da0/FKoam.jpg
END:VEVENT
END:VCALENDAR
